BEGIN:VCALENDAR
VERSION:2.0
PRODID:icalendar-ruby
CALSCALE:GREGORIAN
METHOD:PUBLISH
BEGIN:VEVENT
DTSTAMP:20260423T022102Z
UID:11-2737338@southerwinbaptist.org
DTSTART:20261101T140000Z
DTEND:20261101T143000Z
CLASS:PUBLIC
CREATED:20260422T215235
DESCRIPTION:
LAST-MODIFIED:20260422T215235
LOCATION:144 Old Cut Off Road\, Erwin\, NC 28339
SUMMARY:Time of Prayer
URL;VALUE=URI:https://www.southerwinbaptist.org/events/time-of-prayer/2026-
 11-01
END:VEVENT
END:VCALENDAR
