BEGIN:VCALENDAR
VERSION:2.0
PRODID:icalendar-ruby
CALSCALE:GREGORIAN
METHOD:PUBLISH
BEGIN:VEVENT
DTSTAMP:20260423T005943Z
UID:11-2735761@southerwinbaptist.org
DTSTART:20261025T130000Z
DTEND:20261025T133000Z
CLASS:PUBLIC
CREATED:20260422T185958
DESCRIPTION:
LAST-MODIFIED:20260422T185958
LOCATION:144 Old Cut Off Road\, Erwin\, NC 28339
SUMMARY:Time of Prayer
URL;VALUE=URI:https://www.southerwinbaptist.org/events/time-of-prayer/2026-
 10-25
END:VEVENT
END:VCALENDAR
