BEGIN:VCALENDAR
VERSION:2.0
PRODID:icalendar-ruby
CALSCALE:GREGORIAN
METHOD:PUBLISH
BEGIN:VEVENT
DTSTAMP:20260422T215951Z
UID:11-2734184@southerwinbaptist.org
DTSTART:20261011T130000Z
DTEND:20261011T133000Z
CLASS:PUBLIC
CREATED:20260422T160646
DESCRIPTION:
LAST-MODIFIED:20260422T160646
LOCATION:144 Old Cut Off Road\, Erwin\, NC 28339
SUMMARY:Time of Prayer
URL;VALUE=URI:https://www.southerwinbaptist.org/events/time-of-prayer/2026-
 10-11
END:VEVENT
END:VCALENDAR
