BEGIN:VCALENDAR
VERSION:2.0
PRODID:icalendar-ruby
CALSCALE:GREGORIAN
METHOD:PUBLISH
BEGIN:VEVENT
DTSTAMP:20260422T203506Z
UID:11-2734183@southerwinbaptist.org
DTSTART:20261004T130000Z
DTEND:20261004T133000Z
CLASS:PUBLIC
CREATED:20260422T160646
DESCRIPTION:
LAST-MODIFIED:20260422T160646
LOCATION:144 Old Cut Off Road\, Erwin\, NC 28339
SUMMARY:Time of Prayer
URL;VALUE=URI:https://www.southerwinbaptist.org/events/time-of-prayer/2026-
 10-04
END:VEVENT
END:VCALENDAR
