BEGIN:VCALENDAR
VERSION:2.0
PRODID:icalendar-ruby
CALSCALE:GREGORIAN
METHOD:PUBLISH
BEGIN:VEVENT
DTSTAMP:20260422T173624Z
UID:11-2732606@southerwinbaptist.org
DTSTART:20260920T130000Z
DTEND:20260920T133000Z
CLASS:PUBLIC
CREATED:20260422T131154
DESCRIPTION:
LAST-MODIFIED:20260422T131154
LOCATION:144 Old Cut Off Road\, Erwin\, NC 28339
SUMMARY:Time of Prayer
URL;VALUE=URI:https://www.southerwinbaptist.org/events/time-of-prayer/2026-
 09-20
END:VEVENT
END:VCALENDAR
