BEGIN:VCALENDAR
VERSION:2.0
PRODID:icalendar-ruby
CALSCALE:GREGORIAN
METHOD:PUBLISH
BEGIN:VEVENT
DTSTAMP:20260422T120234Z
UID:11-2729452@southerwinbaptist.org
DTSTART:20260823T130000Z
DTEND:20260823T133000Z
CLASS:PUBLIC
CREATED:20260422T072136
DESCRIPTION:
LAST-MODIFIED:20260422T072136
LOCATION:144 Old Cut Off Road\, Erwin\, NC 28339
SUMMARY:Time of Prayer
URL;VALUE=URI:https://www.southerwinbaptist.org/events/time-of-prayer/2026-
 08-23
END:VEVENT
END:VCALENDAR
