BEGIN:VCALENDAR
VERSION:2.0
PRODID:icalendar-ruby
CALSCALE:GREGORIAN
METHOD:PUBLISH
BEGIN:VEVENT
DTSTAMP:20260422T071433Z
UID:11-2727874@southerwinbaptist.org
DTSTART:20260802T130000Z
DTEND:20260802T133000Z
CLASS:PUBLIC
CREATED:20260421T202034
DESCRIPTION:
LAST-MODIFIED:20260421T202034
LOCATION:144 Old Cut Off Road\, Erwin\, NC 28339
SUMMARY:Time of Prayer
URL;VALUE=URI:https://www.southerwinbaptist.org/events/time-of-prayer/2026-
 08-02
END:VEVENT
END:VCALENDAR
