BEGIN:VCALENDAR
VERSION:2.0
PRODID:icalendar-ruby
CALSCALE:GREGORIAN
METHOD:PUBLISH
BEGIN:VEVENT
DTSTAMP:20260424T201955Z
UID:1-2752030@southerwinbaptist.org
DTSTART:20261011T143000Z
DTEND:20261011T153000Z
CLASS:PUBLIC
CREATED:20260424T155202
DESCRIPTION:
LAST-MODIFIED:20260424T155202
LOCATION:
SUMMARY:Sunday Service
URL;VALUE=URI:https://www.southerwinbaptist.org/events/sunday-service/2026-
 10-11
ATTACH;FILENAME=priscilla-du-preez-234138-unsplash.jpg;FMTTYPE=image/jpeg:h
 ttps://dq5pwpg1q8ru0.cloudfront.net/2021/08/18/10/42/16/08e04368-3394-4ca3
 -ba54-c5a02dea4f3b/priscilla-du-preez-234138-unsplash.jpg
END:VEVENT
END:VCALENDAR
