BEGIN:VCALENDAR
VERSION:2.0
PRODID:icalendar-ruby
CALSCALE:GREGORIAN
METHOD:PUBLISH
BEGIN:VEVENT
DTSTAMP:20260424T221007Z
UID:5-2752576@southerwinbaptist.org
DTSTART:20261101T143000Z
DTEND:20261101T153000Z
CLASS:PUBLIC
CREATED:20260424T155203
DESCRIPTION:
LAST-MODIFIED:20260424T155203
LOCATION:
SUMMARY:Sunday School
URL;VALUE=URI:https://www.southerwinbaptist.org/events/sunday-school/2026-1
 1-01
END:VEVENT
END:VCALENDAR
