BEGIN:VCALENDAR
VERSION:2.0
PRODID:icalendar-ruby
CALSCALE:GREGORIAN
METHOD:PUBLISH
BEGIN:VEVENT
DTSTAMP:20260424T205939Z
UID:5-2752575@southerwinbaptist.org
DTSTART:20261025T133000Z
DTEND:20261025T143000Z
CLASS:PUBLIC
CREATED:20260424T155203
DESCRIPTION:
LAST-MODIFIED:20260424T155203
LOCATION:
SUMMARY:Sunday School
URL;VALUE=URI:https://www.southerwinbaptist.org/events/sunday-school/2026-1
 0-25
END:VEVENT
END:VCALENDAR
