BEGIN:VCALENDAR
VERSION:2.0
PRODID:icalendar-ruby
CALSCALE:GREGORIAN
METHOD:PUBLISH
BEGIN:VEVENT
DTSTAMP:20260424T165236Z
UID:5-2749416@southerwinbaptist.org
DTSTART:20261004T133000Z
DTEND:20261004T143000Z
CLASS:PUBLIC
CREATED:20260424T101642
DESCRIPTION:
LAST-MODIFIED:20260424T101642
LOCATION:
SUMMARY:Sunday School
URL;VALUE=URI:https://www.southerwinbaptist.org/events/sunday-school/2026-1
 0-04
END:VEVENT
END:VCALENDAR
