BEGIN:VCALENDAR
VERSION:2.0
PRODID:icalendar-ruby
CALSCALE:GREGORIAN
METHOD:PUBLISH
BEGIN:VEVENT
DTSTAMP:20260424T134429Z
UID:5-2747836@southerwinbaptist.org
DTSTART:20260920T133000Z
DTEND:20260920T143000Z
CLASS:PUBLIC
CREATED:20260424T072252
DESCRIPTION:
LAST-MODIFIED:20260424T072252
LOCATION:
SUMMARY:Sunday School
URL;VALUE=URI:https://www.southerwinbaptist.org/events/sunday-school/2026-0
 9-20
END:VEVENT
END:VCALENDAR
